Package: MassSpecWavelet Version: 1.74.0 Command: rm -rf MassSpecWavelet.buildbin-libdir && mkdir MassSpecWavelet.buildbin-libdir && /Users/biocbuild/BBS/utils/build-universal.sh MassSpecWavelet_1.74.0.tar.gz /Library/Frameworks/R.framework/Resources/bin/R MassSpecWavelet.buildbin-libdir StartedAt: 2025-10-04 18:38:15 -0400 (Sat, 04 Oct 2025) EndedAt: 2025-10-04 18:38:21 -0400 (Sat, 04 Oct 2025) EllapsedTime: 6.7 seconds RetCode: 0 Status: OK PackageFile: MassSpecWavelet_1.74.0.tgz PackageFileSize: 2.172 MiB