Package: MassSpecWavelet Version: 1.74.0 Maintainer: Sergio Oller Moreno MaintainerEmail: sergioller at gmail.com git_url: https://git.bioconductor.org/packages/MassSpecWavelet git_branch: RELEASE_3_21 git_last_commit: e19b8a0 git_last_commit_date: 2025-04-15 09:40:10 -0400 (Tue, 15 Apr 2025)