Package: MassArray Version: 1.62.0 Command: /home/biocbuild/R/R/bin/R CMD INSTALL MassArray StartedAt: 2025-11-13 21:02:53 -0000 (Thu, 13 Nov 2025) EndedAt: 2025-11-13 21:03:04 -0000 (Thu, 13 Nov 2025) EllapsedTime: 10.8 seconds RetCode: 0 Status: OK