Package: MassArray Version: 1.62.0 Command: /home/biocbuild/bbs-3.22-bioc/R/bin/R CMD check --install=check:MassArray.install-out.txt --library=/home/biocbuild/bbs-3.22-bioc/R/site-library --timings MassArray_1.62.0.tar.gz StartedAt: 2025-11-12 01:07:40 -0500 (Wed, 12 Nov 2025) EndedAt: 2025-11-12 01:08:32 -0500 (Wed, 12 Nov 2025) EllapsedTime: 52.0 seconds RetCode: 0 Status: OK CheckDir: MassArray.Rcheck Warnings: 0