Package: MassArray Version: 1.62.0 Command: /home/biocbuild/bbs-3.22-bioc/R/bin/R CMD build --keep-empty-dirs --no-resave-data --md5 MassArray StartedAt: 2025-11-11 18:33:44 -0500 (Tue, 11 Nov 2025) EndedAt: 2025-11-11 18:34:07 -0500 (Tue, 11 Nov 2025) EllapsedTime: 23.0 seconds RetCode: 0 Status: OK PackageFile: MassArray_1.62.0.tar.gz PackageFileSize: 377.1 KiB