Package: MantelCorr Version: 1.80.0 Command: /home/biocbuild/bbs-3.22-bioc/R/bin/R CMD INSTALL MantelCorr StartedAt: 2025-11-11 15:06:23 -0500 (Tue, 11 Nov 2025) EndedAt: 2025-11-11 15:06:30 -0500 (Tue, 11 Nov 2025) EllapsedTime: 7.7 seconds RetCode: 0 Status: OK