Package: MantelCorr Version: 1.80.0 Command: /home/biocbuild/bbs-3.22-bioc/R/bin/R CMD build --keep-empty-dirs --no-resave-data --md5 MantelCorr StartedAt: 2025-11-11 18:32:07 -0500 (Tue, 11 Nov 2025) EndedAt: 2025-11-11 18:32:17 -0500 (Tue, 11 Nov 2025) EllapsedTime: 10.0 seconds RetCode: 0 Status: OK PackageFile: MantelCorr_1.80.0.tar.gz PackageFileSize: 938.4 KiB