Package: MantelCorr Version: 1.80.0 Command: /Library/Frameworks/R.framework/Resources/bin/R CMD INSTALL MantelCorr StartedAt: 2025-11-03 15:09:09 -0500 (Mon, 03 Nov 2025) EndedAt: 2025-11-03 15:09:24 -0500 (Mon, 03 Nov 2025) EllapsedTime: 14.6 seconds RetCode: 0 Status: OK