Package: MantelCorr Version: 1.80.0 Command: /Library/Frameworks/R.framework/Resources/bin/R CMD build --keep-empty-dirs --no-resave-data MantelCorr StartedAt: 2025-11-03 17:35:48 -0500 (Mon, 03 Nov 2025) EndedAt: 2025-11-03 17:36:05 -0500 (Mon, 03 Nov 2025) EllapsedTime: 17.0 seconds RetCode: 0 Status: OK PackageFile: MantelCorr_1.80.0.tar.gz PackageFileSize: 937.1 KiB