Package: MantelCorr Version: 1.80.0 Command: rm -rf MantelCorr.buildbin-libdir && mkdir MantelCorr.buildbin-libdir && /Users/biocbuild/BBS/utils/build-universal.sh MantelCorr_1.80.0.tar.gz /Library/Frameworks/R.framework/Resources/bin/R MantelCorr.buildbin-libdir StartedAt: 2025-11-04 01:47:50 -0500 (Tue, 04 Nov 2025) EndedAt: 2025-11-04 01:47:56 -0500 (Tue, 04 Nov 2025) EllapsedTime: 6.0 seconds RetCode: 0 Status: OK PackageFile: MantelCorr_1.80.0.tgz PackageFileSize: 747.5 KiB