Package: MantelCorr Version: 1.78.0 Command: /home/biocbuild/R/R/bin/R CMD build --keep-empty-dirs --no-resave-data MantelCorr StartedAt: 2025-10-14 02:05:57 -0000 (Tue, 14 Oct 2025) EndedAt: 2025-10-14 02:06:19 -0000 (Tue, 14 Oct 2025) EllapsedTime: 22.0 seconds RetCode: 0 Status: OK PackageFile: MantelCorr_1.78.0.tar.gz PackageFileSize: 928.3 KiB