Package: Macarron Version: 1.14.0 Command: /home/biocbuild/bbs-3.22-bioc/R/bin/R CMD INSTALL Macarron StartedAt: 2025-11-11 15:49:05 -0500 (Tue, 11 Nov 2025) EndedAt: 2025-11-11 15:49:25 -0500 (Tue, 11 Nov 2025) EllapsedTime: 19.9 seconds RetCode: 0 Status: OK