Package: Macarron Version: 1.14.0 Command: /home/biocbuild/bbs-3.22-bioc/R/bin/R CMD build --keep-empty-dirs --no-resave-data --md5 Macarron StartedAt: 2025-11-11 18:30:24 -0500 (Tue, 11 Nov 2025) EndedAt: 2025-11-11 18:36:30 -0500 (Tue, 11 Nov 2025) EllapsedTime: 366.3 seconds RetCode: 1 Status: ERROR PackageFile: None PackageFileSize: NA