Package: Macarron Version: 1.12.2 Command: /home/biocbuild/bbs-3.21-bioc/R/bin/R CMD build --keep-empty-dirs --no-resave-data Macarron StartedAt: 2025-10-15 18:15:33 -0400 (Wed, 15 Oct 2025) EndedAt: 2025-10-15 18:21:35 -0400 (Wed, 15 Oct 2025) EllapsedTime: 362.3 seconds RetCode: 1 Status: ERROR PackageFile: None PackageFileSize: NA