Package: Macarron Version: 1.14.0 Command: /Library/Frameworks/R.framework/Resources/bin/R CMD build --keep-empty-dirs --no-resave-data Macarron StartedAt: 2025-11-03 17:34:57 -0500 (Mon, 03 Nov 2025) EndedAt: 2025-11-03 17:42:07 -0500 (Mon, 03 Nov 2025) EllapsedTime: 429.7 seconds RetCode: 1 Status: ERROR PackageFile: None PackageFileSize: NA