Package: Macarron Version: 1.12.2 Command: /home/biocbuild/R/R/bin/R CMD INSTALL Macarron StartedAt: 2025-10-06 21:04:38 -0000 (Mon, 06 Oct 2025) EndedAt: 2025-10-06 21:05:07 -0000 (Mon, 06 Oct 2025) EllapsedTime: 29.0 seconds RetCode: 0 Status: OK