Package: Macarron Version: 1.12.2 Command: /home/biocbuild/R/R/bin/R CMD build --keep-empty-dirs --no-resave-data Macarron StartedAt: 2025-10-07 02:07:07 -0000 (Tue, 07 Oct 2025) EndedAt: 2025-10-07 02:13:56 -0000 (Tue, 07 Oct 2025) EllapsedTime: 409.1 seconds RetCode: 0 Status: OK PackageFile: Macarron_1.12.2.tar.gz PackageFileSize: 658.9 KiB