Package: Macarron Version: 1.12.0 Command: rm -rf Macarron.buildbin-libdir && mkdir Macarron.buildbin-libdir && /Users/biocbuild/BBS/utils/build-universal.sh Macarron_1.12.0.tar.gz /Library/Frameworks/R.framework/Resources/bin/R Macarron.buildbin-libdir StartedAt: 2025-04-21 22:40:29 -0400 (Mon, 21 Apr 2025) EndedAt: 2025-04-21 22:40:38 -0400 (Mon, 21 Apr 2025) EllapsedTime: 9.2 seconds RetCode: 0 Status: OK PackageFile: Macarron_1.12.0.tgz PackageFileSize: 655.6 KiB