Package: Maaslin2 Version: 1.24.0 Command: /home/biocbuild/bbs-3.22-bioc/R/bin/R CMD INSTALL Maaslin2 StartedAt: 2025-10-31 15:22:21 -0400 (Fri, 31 Oct 2025) EndedAt: 2025-10-31 15:22:29 -0400 (Fri, 31 Oct 2025) EllapsedTime: 7.9 seconds RetCode: 0 Status: OK