Package: MWASTools Version: 1.34.0 Command: /home/biocbuild/bbs-3.22-bioc/R/bin/R CMD INSTALL MWASTools StartedAt: 2025-11-11 15:29:25 -0500 (Tue, 11 Nov 2025) EndedAt: 2025-11-11 15:29:57 -0500 (Tue, 11 Nov 2025) EllapsedTime: 31.9 seconds RetCode: 0 Status: OK