Package: MWASTools Version: 1.34.0 Command: /home/biocbuild/bbs-3.22-bioc/R/bin/R CMD build --keep-empty-dirs --no-resave-data --md5 MWASTools StartedAt: 2025-11-11 19:03:47 -0500 (Tue, 11 Nov 2025) EndedAt: 2025-11-11 19:04:55 -0500 (Tue, 11 Nov 2025) EllapsedTime: 68.0 seconds RetCode: 0 Status: OK PackageFile: MWASTools_1.34.0.tar.gz PackageFileSize: 2.654 MiB