Package: MWASTools Version: 1.32.0 Command: /home/biocbuild/R/R/bin/R CMD INSTALL MWASTools StartedAt: 2025-09-29 20:39:31 -0000 (Mon, 29 Sep 2025) EndedAt: 2025-09-29 20:40:14 -0000 (Mon, 29 Sep 2025) EllapsedTime: 43.5 seconds RetCode: 0 Status: OK