Package: MWASTools Version: 1.32.0 Command: /home/biocbuild/R/R/bin/R CMD build --keep-empty-dirs --no-resave-data MWASTools StartedAt: 2025-09-30 03:38:15 -0000 (Tue, 30 Sep 2025) EndedAt: 2025-09-30 03:39:46 -0000 (Tue, 30 Sep 2025) EllapsedTime: 91.0 seconds RetCode: 0 Status: OK PackageFile: MWASTools_1.32.0.tar.gz PackageFileSize: 2.623 MiB