Package: MVCClass Version: 1.84.0 Command: /home/biocbuild/R/R/bin/R CMD INSTALL MVCClass StartedAt: 2025-11-10 21:07:40 -0000 (Mon, 10 Nov 2025) EndedAt: 2025-11-10 21:08:12 -0000 (Mon, 10 Nov 2025) EllapsedTime: 32.5 seconds RetCode: 0 Status: OK