Package: MVCClass Version: 1.84.0 Command: /home/biocbuild/R/R/bin/R CMD check --install=check:MVCClass.install-out.txt --library=/home/biocbuild/R/R/site-library --no-vignettes --timings MVCClass_1.84.0.tar.gz StartedAt: 2025-11-14 12:08:52 -0000 (Fri, 14 Nov 2025) EndedAt: 2025-11-14 12:09:25 -0000 (Fri, 14 Nov 2025) EllapsedTime: 33.0 seconds RetCode: 0 Status: OK CheckDir: MVCClass.Rcheck Warnings: 0