Package: MVCClass Version: 1.84.0 Command: /home/biocbuild/R/R/bin/R CMD build --keep-empty-dirs --no-resave-data MVCClass StartedAt: 2025-11-11 03:40:16 -0000 (Tue, 11 Nov 2025) EndedAt: 2025-11-11 03:40:23 -0000 (Tue, 11 Nov 2025) EllapsedTime: 7.0 seconds RetCode: 0 Status: OK PackageFile: MVCClass_1.84.0.tar.gz PackageFileSize: 1.028 MiB