Package: MVCClass Version: 1.82.0 Command: /home/biocbuild/bbs-3.21-bioc/R/bin/R CMD check --install=check:MVCClass.install-out.txt --library=/home/biocbuild/bbs-3.21-bioc/R/site-library --timings MVCClass_1.82.0.tar.gz StartedAt: 2025-10-09 01:27:27 -0400 (Thu, 09 Oct 2025) EndedAt: 2025-10-09 01:27:48 -0400 (Thu, 09 Oct 2025) EllapsedTime: 21.0 seconds RetCode: 0 Status: OK CheckDir: MVCClass.Rcheck Warnings: 0