Package: MVCClass Version: 1.82.0 Command: /home/biocbuild/R/R/bin/R CMD check --install=check:MVCClass.install-out.txt --library=/home/biocbuild/R/R/site-library --no-vignettes --timings MVCClass_1.82.0.tar.gz StartedAt: 2025-09-30 12:20:18 -0000 (Tue, 30 Sep 2025) EndedAt: 2025-09-30 12:20:38 -0000 (Tue, 30 Sep 2025) EllapsedTime: 20.0 seconds RetCode: 0 Status: OK CheckDir: MVCClass.Rcheck Warnings: 0