Package: MVCClass Version: 1.82.0 Command: /Library/Frameworks/R.framework/Resources/bin/R CMD check --install=check:MVCClass.install-out.txt --library=/Library/Frameworks/R.framework/Resources/library --no-vignettes --timings MVCClass_1.82.0.tar.gz StartedAt: 2025-10-08 07:33:08 -0400 (Wed, 08 Oct 2025) EndedAt: 2025-10-08 07:33:37 -0400 (Wed, 08 Oct 2025) EllapsedTime: 29.4 seconds RetCode: 0 Status: OK CheckDir: MVCClass.Rcheck Warnings: 0