Package: MSstatsTMT Version: 2.18.0 Command: /home/biocbuild/bbs-3.22-bioc/R/bin/R CMD INSTALL MSstatsTMT StartedAt: 2025-11-11 15:16:43 -0500 (Tue, 11 Nov 2025) EndedAt: 2025-11-11 15:16:56 -0500 (Tue, 11 Nov 2025) EllapsedTime: 12.4 seconds RetCode: 0 Status: OK