Package: MSstatsTMT Version: 2.18.0 Command: /home/biocbuild/bbs-3.22-bioc/R/bin/R CMD check --install=check:MSstatsTMT.install-out.txt --library=/home/biocbuild/bbs-3.22-bioc/R/site-library --timings MSstatsTMT_2.18.0.tar.gz StartedAt: 2025-11-17 02:05:18 -0500 (Mon, 17 Nov 2025) EndedAt: 2025-11-17 02:08:17 -0500 (Mon, 17 Nov 2025) EllapsedTime: 179.2 seconds RetCode: 0 Status: OK CheckDir: MSstatsTMT.Rcheck Warnings: 0