Package: MSstatsTMT Version: 2.18.0 Command: /Library/Frameworks/R.framework/Resources/bin/R CMD INSTALL MSstatsTMT StartedAt: 2025-11-03 15:19:15 -0500 (Mon, 03 Nov 2025) EndedAt: 2025-11-03 15:19:42 -0500 (Mon, 03 Nov 2025) EllapsedTime: 27.6 seconds RetCode: 0 Status: OK