Package: MSstatsTMT Version: 2.18.0 Command: /Library/Frameworks/R.framework/Resources/bin/R CMD build --keep-empty-dirs --no-resave-data MSstatsTMT StartedAt: 2025-11-03 17:57:57 -0500 (Mon, 03 Nov 2025) EndedAt: 2025-11-03 17:59:10 -0500 (Mon, 03 Nov 2025) EllapsedTime: 72.9 seconds RetCode: 0 Status: OK PackageFile: MSstatsTMT_2.18.0.tar.gz PackageFileSize: 1.531 MiB