Package: MSstatsTMT Version: 2.18.0 Command: rm -rf MSstatsTMT.buildbin-libdir && mkdir MSstatsTMT.buildbin-libdir && /Users/biocbuild/BBS/utils/build-universal.sh MSstatsTMT_2.18.0.tar.gz /Library/Frameworks/R.framework/Resources/bin/R MSstatsTMT.buildbin-libdir StartedAt: 2025-11-04 01:52:16 -0500 (Tue, 04 Nov 2025) EndedAt: 2025-11-04 01:52:38 -0500 (Tue, 04 Nov 2025) EllapsedTime: 22.0 seconds RetCode: 0 Status: OK PackageFile: MSstatsTMT_2.18.0.tgz PackageFileSize: 1.906 MiB