Package: MSstatsTMT Version: 2.16.0 Command: /home/biocbuild/R/R/bin/R CMD INSTALL MSstatsTMT StartedAt: 2025-10-13 20:24:07 -0000 (Mon, 13 Oct 2025) EndedAt: 2025-10-13 20:24:25 -0000 (Mon, 13 Oct 2025) EllapsedTime: 18.1 seconds RetCode: 0 Status: OK