Package: MSstatsTMT Version: 2.16.0 Command: /home/biocbuild/R/R/bin/R CMD build --keep-empty-dirs --no-resave-data MSstatsTMT StartedAt: 2025-10-14 02:55:01 -0000 (Tue, 14 Oct 2025) EndedAt: 2025-10-14 02:56:26 -0000 (Tue, 14 Oct 2025) EllapsedTime: 85.1 seconds RetCode: 0 Status: OK PackageFile: MSstatsTMT_2.16.0.tar.gz PackageFileSize: 1.532 MiB