Package: MSstatsShiny Version: 1.12.0 Command: /home/biocbuild/bbs-3.22-bioc/R/bin/R CMD check --install=check:MSstatsShiny.install-out.txt --library=/home/biocbuild/bbs-3.22-bioc/R/site-library --timings MSstatsShiny_1.12.0.tar.gz StartedAt: 2025-11-14 02:02:00 -0500 (Fri, 14 Nov 2025) EndedAt: 2025-11-14 02:06:24 -0500 (Fri, 14 Nov 2025) EllapsedTime: 263.3 seconds RetCode: 0 Status: WARNINGS CheckDir: MSstatsShiny.Rcheck Warnings: 1