Package: MSstatsShiny Version: 1.12.0 Command: /home/biocbuild/bbs-3.22-bioc/R/bin/R CMD build --keep-empty-dirs --no-resave-data --md5 MSstatsShiny StartedAt: 2025-11-11 19:01:57 -0500 (Tue, 11 Nov 2025) EndedAt: 2025-11-11 19:02:40 -0500 (Tue, 11 Nov 2025) EllapsedTime: 43.0 seconds RetCode: 0 Status: OK PackageFile: MSstatsShiny_1.12.0.tar.gz PackageFileSize: 3.526 MiB