Package: MSstatsShiny Version: 1.10.0 Command: /home/biocbuild/R/R/bin/R CMD INSTALL MSstatsShiny StartedAt: 2025-10-02 20:41:31 -0000 (Thu, 02 Oct 2025) EndedAt: 2025-10-02 20:42:07 -0000 (Thu, 02 Oct 2025) EllapsedTime: 36.0 seconds RetCode: 0 Status: OK