Package: MSstatsShiny Version: 1.10.0 Command: /home/biocbuild/R/R/bin/R CMD build --keep-empty-dirs --no-resave-data MSstatsShiny StartedAt: 2025-10-03 02:55:06 -0000 (Fri, 03 Oct 2025) EndedAt: 2025-10-03 02:55:57 -0000 (Fri, 03 Oct 2025) EllapsedTime: 51.0 seconds RetCode: 0 Status: OK PackageFile: MSstatsShiny_1.10.0.tar.gz PackageFileSize: 2.161 MiB