Package: MSstatsShiny Version: 1.10.0 Command: rm -rf MSstatsShiny.buildbin-libdir && mkdir MSstatsShiny.buildbin-libdir && /Users/biocbuild/BBS/utils/build-universal.sh MSstatsShiny_1.10.0.tar.gz /Library/Frameworks/R.framework/Resources/bin/R MSstatsShiny.buildbin-libdir StartedAt: 2025-04-21 22:43:55 -0400 (Mon, 21 Apr 2025) EndedAt: 2025-04-21 22:44:04 -0400 (Mon, 21 Apr 2025) EllapsedTime: 9.2 seconds RetCode: 0 Status: OK PackageFile: MSstatsShiny_1.10.0.tgz PackageFileSize: 2.294 MiB