Package: MSstatsShiny Version: 1.10.0 Command: /Library/Frameworks/R.framework/Resources/bin/R CMD build --keep-empty-dirs --no-resave-data MSstatsShiny StartedAt: 2025-10-14 05:14:58 -0400 (Tue, 14 Oct 2025) EndedAt: 2025-10-14 05:15:50 -0400 (Tue, 14 Oct 2025) EllapsedTime: 52.2 seconds RetCode: 0 Status: OK PackageFile: MSstatsShiny_1.10.0.tar.gz PackageFileSize: 2.16 MiB