Package: MSstatsResponse Version: 1.0.0 Command: /home/biocbuild/bbs-3.22-bioc/R/bin/R CMD check --install=check:MSstatsResponse.install-out.txt --library=/home/biocbuild/bbs-3.22-bioc/R/site-library --timings MSstatsResponse_1.0.0.tar.gz StartedAt: 2025-11-18 06:25:08 -0500 (Tue, 18 Nov 2025) EndedAt: 2025-11-18 06:27:21 -0500 (Tue, 18 Nov 2025) EllapsedTime: 133.1 seconds RetCode: 0 Status: OK CheckDir: MSstatsResponse.Rcheck Warnings: 0