Package: MSstatsResponse Version: 1.0.0 Command: /Library/Frameworks/R.framework/Resources/bin/R CMD build --keep-empty-dirs --no-resave-data MSstatsResponse StartedAt: 2025-11-10 17:09:59 -0500 (Mon, 10 Nov 2025) EndedAt: 2025-11-10 17:10:26 -0500 (Mon, 10 Nov 2025) EllapsedTime: 26.3 seconds RetCode: 0 Status: OK PackageFile: MSstatsResponse_1.0.0.tar.gz PackageFileSize: 8.146 MiB