Package: MSstatsResponse Version: 1.0.0 Command: rm -rf MSstatsResponse.buildbin-libdir && mkdir MSstatsResponse.buildbin-libdir && /Users/biocbuild/BBS/utils/build-universal.sh MSstatsResponse_1.0.0.tar.gz /Library/Frameworks/R.framework/Resources/bin/R MSstatsResponse.buildbin-libdir StartedAt: 2025-11-10 23:28:43 -0500 (Mon, 10 Nov 2025) EndedAt: 2025-11-10 23:28:47 -0500 (Mon, 10 Nov 2025) EllapsedTime: 4.1 seconds RetCode: 0 Status: OK PackageFile: MSstatsResponse_1.0.0.tgz PackageFileSize: 8.207 MiB