Package: MSstatsResponse Version: 1.0.0 Maintainer: Sarah Szvetecz MaintainerEmail: szvetecz.s at northeastern.edu git_url: https://git.bioconductor.org/packages/MSstatsResponse git_branch: RELEASE_3_22 git_last_commit: 7b935df git_last_commit_date: 2025-10-29 11:39:03 -0500 (Wed, 29 Oct 2025)