Package: MSstatsQCgui Version: 1.28.0 Command: /home/biocbuild/bbs-3.21-bioc/R/bin/R CMD INSTALL MSstatsQCgui StartedAt: 2025-10-15 15:37:07 -0400 (Wed, 15 Oct 2025) EndedAt: 2025-10-15 15:37:48 -0400 (Wed, 15 Oct 2025) EllapsedTime: 40.8 seconds RetCode: 0 Status: OK