Package: MSstatsQCgui Version: 1.28.0 Command: /home/biocbuild/bbs-3.21-bioc/R/bin/R CMD build --keep-empty-dirs --no-resave-data MSstatsQCgui StartedAt: 2025-10-15 18:45:41 -0400 (Wed, 15 Oct 2025) EndedAt: 2025-10-15 18:46:21 -0400 (Wed, 15 Oct 2025) EllapsedTime: 40.1 seconds RetCode: 0 Status: OK PackageFile: MSstatsQCgui_1.28.0.tar.gz PackageFileSize: 75.47 KiB