Package: MSstatsQCgui Version: 1.28.0 Command: /home/biocbuild/R/R/bin/R CMD INSTALL MSstatsQCgui StartedAt: 2025-09-25 20:58:16 -0000 (Thu, 25 Sep 2025) EndedAt: 2025-09-25 20:59:13 -0000 (Thu, 25 Sep 2025) EllapsedTime: 56.4 seconds RetCode: 0 Status: OK