Package: MSstatsQCgui Version: 1.28.0 Command: /home/biocbuild/R/R/bin/R CMD build --keep-empty-dirs --no-resave-data MSstatsQCgui StartedAt: 2025-09-26 04:16:39 -0000 (Fri, 26 Sep 2025) EndedAt: 2025-09-26 04:17:35 -0000 (Fri, 26 Sep 2025) EllapsedTime: 56.0 seconds RetCode: 0 Status: OK PackageFile: MSstatsQCgui_1.28.0.tar.gz PackageFileSize: 75.99 KiB